BEGIN:VCALENDAR
VERSION:2.0
PRODID:-//Reboocon Bionics - ECPv6.14.2//NONSGML v1.0//EN
CALSCALE:GREGORIAN
METHOD:PUBLISH
X-WR-CALNAME:Reboocon Bionics
X-ORIGINAL-URL:https://www.rbionics.com
X-WR-CALDESC:Events for Reboocon Bionics
REFRESH-INTERVAL;VALUE=DURATION:PT1H
X-Robots-Tag:noindex
X-PUBLISHED-TTL:PT1H
BEGIN:VTIMEZONE
TZID:Europe/Amsterdam
BEGIN:DAYLIGHT
TZOFFSETFROM:+0100
TZOFFSETTO:+0200
TZNAME:CEST
DTSTART:20190331T010000
END:DAYLIGHT
BEGIN:STANDARD
TZOFFSETFROM:+0200
TZOFFSETTO:+0100
TZNAME:CET
DTSTART:20191027T010000
END:STANDARD
BEGIN:DAYLIGHT
TZOFFSETFROM:+0100
TZOFFSETTO:+0200
TZNAME:CEST
DTSTART:20200329T010000
END:DAYLIGHT
BEGIN:STANDARD
TZOFFSETFROM:+0200
TZOFFSETTO:+0100
TZNAME:CET
DTSTART:20201025T010000
END:STANDARD
END:VTIMEZONE
BEGIN:VTIMEZONE
TZID:Asia/Shanghai
BEGIN:STANDARD
TZOFFSETFROM:+0800
TZOFFSETTO:+0800
TZNAME:CST
DTSTART:20190101T000000
END:STANDARD
END:VTIMEZONE
BEGIN:VEVENT
DTSTART;VALUE=DATE:20201027
DTEND;VALUE=DATE:20201031
DTSTAMP:20260424T190006
CREATED:20191124T163113Z
LAST-MODIFIED:20200311T081258Z
UID:1310-1603756800-1604102399@www.rbionics.com
SUMMARY:OTWorld Lepzig 2020
DESCRIPTION:
URL:https://www.rbionics.com/event/otworld-lepzig-2020/
END:VEVENT
BEGIN:VEVENT
DTSTART;VALUE=DATE:20200917
DTEND;VALUE=DATE:20200921
DTSTAMP:20260424T190006
CREATED:20191124T162959Z
LAST-MODIFIED:20200311T081737Z
UID:1307-1600300800-1600646399@www.rbionics.com
SUMMARY:Cybathlon 2020\, Zurich\, CH
DESCRIPTION:
URL:https://www.rbionics.com/event/cybathlon-2020-zurich-ch/
LOCATION:klotten zurich\, klotten arena\, zurich\, Switzerland
END:VEVENT
BEGIN:VEVENT
DTSTART;VALUE=DATE:20200228
DTEND;VALUE=DATE:20200302
DTSTAMP:20260424T190006
CREATED:20191124T162747Z
LAST-MODIFIED:20191124T162747Z
UID:1303-1582848000-1583107199@www.rbionics.com
SUMMARY:Canton Rehacare 2020
DESCRIPTION:
URL:https://www.rbionics.com/event/canton-rehacare-2020/
LOCATION:保利世贸博览中心\, Poly World Trade Center\, Guangzhou\, Guangdong\, China
END:VEVENT
BEGIN:VEVENT
DTSTART;VALUE=DATE:20191010
DTEND;VALUE=DATE:20191013
DTSTAMP:20260424T190006
CREATED:20190221T145522Z
LAST-MODIFIED:20190221T145522Z
UID:1127-1570665600-1570924799@www.rbionics.com
SUMMARY:CREXPO 中国国际福祉康博览会
DESCRIPTION:
URL:https://www.rbionics.com/event/crexpo-%e4%b8%ad%e5%9b%bd%e5%9b%bd%e9%99%85%e7%a6%8f%e7%a5%89%e5%ba%b7%e5%8d%9a%e8%a7%88%e4%bc%9a/
LOCATION:国家会议中心\, 国家会议中心\, beijing\, China
END:VEVENT
BEGIN:VEVENT
DTSTART;VALUE=DATE:20190918
DTEND;VALUE=DATE:20190922
DTSTAMP:20260424T190006
CREATED:20190221T144223Z
LAST-MODIFIED:20190715T115350Z
UID:1124-1568764800-1569110399@www.rbionics.com
SUMMARY:RehaCare Dusseldorf
DESCRIPTION:
URL:https://www.rbionics.com/event/rehacare-dusseldorf/
LOCATION:messe dusseldorf\, Messe\, Dusseldorf\, Germany
END:VEVENT
BEGIN:VEVENT
DTSTART;VALUE=DATE:20190628
DTEND;VALUE=DATE:20190701
DTSTAMP:20260424T190006
CREATED:20190527T074217Z
LAST-MODIFIED:20190527T074217Z
UID:1214-1561680000-1561939199@www.rbionics.com
SUMMARY:China International Assistive Product Expo (CIAP Expo)
DESCRIPTION:
URL:https://www.rbionics.com/event/china-international-assistive-product-expo-ciap-expo/
LOCATION:changzhou\, changhzou\, China
END:VEVENT
BEGIN:VEVENT
DTSTART;VALUE=DATE:20190407
DTEND;VALUE=DATE:20190408
DTSTAMP:20260424T190006
CREATED:20190130T152314Z
LAST-MODIFIED:20190130T165101Z
UID:1004-1554595200-1554681599@www.rbionics.com
SUMMARY:Leaderdrive visits Reboocon Bionics
DESCRIPTION:Leaderdrive from China will visit us on 7th April after Hannover Messe
URL:https://www.rbionics.com/event/leaderdrive-visit-reboocon-bionics/
LOCATION:Reboocon Bionics B.V.\, Rotterdamseweg 386B1\, Delft\, Zuid Holland\, 2629HG\, Netherlands
END:VEVENT
BEGIN:VEVENT
DTSTART;VALUE=DATE:20190401
DTEND;VALUE=DATE:20190406
DTSTAMP:20260424T190006
CREATED:20190130T152031Z
LAST-MODIFIED:20190130T152031Z
UID:1001-1554076800-1554508799@www.rbionics.com
SUMMARY:Hannover Messe
DESCRIPTION:Industrial show
URL:https://www.rbionics.com/event/hannover-messe/
LOCATION:Hannover Mess\, Hannover Messe\, Hannover\, Germany
END:VEVENT
BEGIN:VEVENT
DTSTART;VALUE=DATE:20190331
DTEND;VALUE=DATE:20190403
DTSTAMP:20260424T190006
CREATED:20190130T151511Z
LAST-MODIFIED:20190130T151511Z
UID:997-1553990400-1554249599@www.rbionics.com
SUMMARY:广州国际康复设备及福祉辅具展览会
DESCRIPTION:
URL:https://www.rbionics.com/event/%e5%b9%bf%e5%b7%9e%e5%9b%bd%e9%99%85%e5%ba%b7%e5%a4%8d%e8%ae%be%e5%a4%87%e5%8f%8a%e7%a6%8f%e7%a5%89%e8%be%85%e5%85%b7%e5%b1%95%e8%a7%88%e4%bc%9a/
LOCATION:保利世贸博览中心\, Poly World Trade Center\, Guangzhou\, Guangdong\, China
END:VEVENT
BEGIN:VEVENT
DTSTART;VALUE=DATE:20190314
DTEND;VALUE=DATE:20190315
DTSTAMP:20260424T190006
CREATED:20190130T145931Z
LAST-MODIFIED:20190130T145931Z
UID:991-1552521600-1552607999@www.rbionics.com
SUMMARY:Exoskeletons and Soft Wearable Robotics Day
DESCRIPTION:We\, the XoSoft consortium\, are excited to host the Exoskeletons and Soft Wearable Robotics Day and look forward to your participation.\n The event will feature live demonstration of multiple exoskeletons and prototypes in action\, key note talks held by experts in the field of wearable robotics and a Swiss start-up\, and pitches from five EU funded wearable robotics projects. \nFurther information and the up-to-date agenda is available on the XoSoft website  . \n09:00 – 10:00 Registration – Coffee and Exhibition???\n 10:00 – 10:15 Welcome – Exoskeletons and Soft Wearable Robotics???????\n 10:15 – 11:00 Key note speeches from experts\n 11:00 – 11:30 Coffee break???\n 11:30 – 12:30 European funded project pitches on smart\, intelligent and soft robotic key enabling technologies\n 12:30 – 13:30 Lunch break and networking?????\n 13:30 – 14:30 Prototype demonstrators and networking?\n 14:30 – 15:30 Parallel workshops (EU funding opportunities\, Standardisation and Benchmarking of Medical Devices)????\n 15:30 – 16:30 Stakeholders Roundtable\n 16:30 End of Cluster Day?????
URL:https://www.rbionics.com/event/exoskeletons-and-soft-wearable-robotics-day/
END:VEVENT
BEGIN:VEVENT
DTSTART;TZID=Europe/Amsterdam:20190220T160000
DTEND;TZID=Europe/Amsterdam:20190220T210000
DTSTAMP:20260424T190006
CREATED:20190131T171256Z
LAST-MODIFIED:20190131T171256Z
UID:1063-1550678400-1550696400@www.rbionics.com
SUMMARY:Grand Opening of Reboocon Bionics
DESCRIPTION:This is the open house of reboocon bionics. people from Academia\, orthopedic professions\, rehabilitation facilities\, amputees and students are also welcome
URL:https://www.rbionics.com/event/grand-opening-of-reboocon-bionics/
END:VEVENT
BEGIN:VEVENT
DTSTART;VALUE=DATE:20190214
DTEND;VALUE=DATE:20190215
DTSTAMP:20260424T190006
CREATED:20190130T145803Z
LAST-MODIFIED:20190130T145803Z
UID:989-1550102400-1550188799@www.rbionics.com
SUMMARY:Innovation for Health
DESCRIPTION:https://www.innovationforhealth.nl/
URL:https://www.rbionics.com/event/innovation-for-health/
END:VEVENT
BEGIN:VEVENT
DTSTART;VALUE=DATE:20190213
DTEND;VALUE=DATE:20190214
DTSTAMP:20260424T190006
CREATED:20190130T145638Z
LAST-MODIFIED:20190130T145638Z
UID:985-1550016000-1550102399@www.rbionics.com
SUMMARY:Global Investor Forum
DESCRIPTION:https://global-investor-forum.com/
URL:https://www.rbionics.com/event/global-investor-forum/
LOCATION:Loyens Loeff Rotterdam
END:VEVENT
END:VCALENDAR